Package: alabaster Version: 1.6.0 Command: chmod a+r alabaster -R && F:\biocbuild\bbs-3.20-bioc\R\bin\R.exe CMD build --keep-empty-dirs --no-resave-data alabaster StartedAt: 2025-01-30 17:13:53 -0500 (Thu, 30 Jan 2025) EndedAt: 2025-01-30 17:14:58 -0500 (Thu, 30 Jan 2025) EllapsedTime: 65.0 seconds RetCode: 0 Status: OK PackageFile: alabaster_1.6.0.tar.gz PackageFileSize: 215.6 KiB