Package: alabaster.string Version: 1.6.0 Command: /home/biocbuild/bbs-3.20-bioc/R/bin/R CMD INSTALL alabaster.string StartedAt: 2025-03-31 15:16:36 -0400 (Mon, 31 Mar 2025) EndedAt: 2025-03-31 15:16:47 -0400 (Mon, 31 Mar 2025) EllapsedTime: 11.0 seconds RetCode: 0 Status: OK