Package: alabaster.string Version: 1.6.0 Command: /Library/Frameworks/R.framework/Resources/bin/R CMD INSTALL alabaster.string StartedAt: 2025-01-27 15:25:19 -0500 (Mon, 27 Jan 2025) EndedAt: 2025-01-27 15:25:44 -0500 (Mon, 27 Jan 2025) EllapsedTime: 25.3 seconds RetCode: 0 Status: OK