Package: alabaster.spatial Version: 1.6.1 Command: /home/biocbuild/R/R/bin/R CMD INSTALL alabaster.spatial StartedAt: 2025-03-31 21:05:10 -0000 (Mon, 31 Mar 2025) EndedAt: 2025-03-31 21:05:45 -0000 (Mon, 31 Mar 2025) EllapsedTime: 34.9 seconds RetCode: 0 Status: OK