Package: alabaster.spatial Version: 1.6.1 Command: /home/biocbuild/R/R/bin/R CMD build --keep-empty-dirs --no-resave-data alabaster.spatial StartedAt: 2025-02-03 21:34:19 -0000 (Mon, 03 Feb 2025) EndedAt: 2025-02-03 21:35:10 -0000 (Mon, 03 Feb 2025) EllapsedTime: 51.0 seconds RetCode: 0 Status: OK PackageFile: alabaster.spatial_1.6.1.tar.gz PackageFileSize: 500.1 KiB