Package: alabaster.spatial Version: 1.6.1 Command: /Library/Frameworks/R.framework/Resources/bin/R CMD check --install=check:alabaster.spatial.install-out.txt --library=/Library/Frameworks/R.framework/Resources/library --no-vignettes --timings alabaster.spatial_1.6.1.tar.gz StartedAt: 2025-01-28 10:44:40 -0500 (Tue, 28 Jan 2025) EndedAt: 2025-01-28 10:48:39 -0500 (Tue, 28 Jan 2025) EllapsedTime: 238.4 seconds RetCode: 0 Status: OK CheckDir: alabaster.spatial.Rcheck Warnings: 0