Package: alabaster.spatial Version: 1.6.1 Command: /Library/Frameworks/R.framework/Resources/bin/R CMD build --keep-empty-dirs --no-resave-data alabaster.spatial StartedAt: 2025-03-31 18:31:52 -0400 (Mon, 31 Mar 2025) EndedAt: 2025-03-31 18:32:41 -0400 (Mon, 31 Mar 2025) EllapsedTime: 49.3 seconds RetCode: 0 Status: OK PackageFile: alabaster.spatial_1.6.1.tar.gz PackageFileSize: 739 KiB