Package: alabaster.se Version: 1.6.0 Command: /home/biocbuild/R/R/bin/R CMD check --install=check:alabaster.se.install-out.txt --library=/home/biocbuild/R/R/site-library --no-vignettes --timings alabaster.se_1.6.0.tar.gz StartedAt: 2025-01-28 04:32:00 -0000 (Tue, 28 Jan 2025) EndedAt: 2025-01-28 04:36:03 -0000 (Tue, 28 Jan 2025) EllapsedTime: 243.4 seconds RetCode: 0 Status: OK CheckDir: alabaster.se.Rcheck Warnings: 0