Package: alabaster.se Version: 1.6.0 Command: /home/biocbuild/bbs-3.20-bioc/R/bin/R CMD check --install=check:alabaster.se.install-out.txt --library=/home/biocbuild/bbs-3.20-bioc/R/site-library --timings alabaster.se_1.6.0.tar.gz StartedAt: 2025-03-31 19:47:21 -0400 (Mon, 31 Mar 2025) EndedAt: 2025-03-31 19:50:32 -0400 (Mon, 31 Mar 2025) EllapsedTime: 191.3 seconds RetCode: 0 Status: OK CheckDir: alabaster.se.Rcheck Warnings: 0