Package: alabaster.se Version: 1.6.0 Command: /Library/Frameworks/R.framework/Resources/bin/R CMD check --install=check:alabaster.se.install-out.txt --library=/Library/Frameworks/R.framework/Resources/library --no-vignettes --timings alabaster.se_1.6.0.tar.gz StartedAt: 2025-03-31 23:12:48 -0400 (Mon, 31 Mar 2025) EndedAt: 2025-03-31 23:19:38 -0400 (Mon, 31 Mar 2025) EllapsedTime: 410.0 seconds RetCode: 0 Status: OK CheckDir: alabaster.se.Rcheck Warnings: 0