Package: alabaster.se Version: 1.6.0 Command: /Library/Frameworks/R.framework/Resources/bin/R CMD INSTALL alabaster.se StartedAt: 2024-11-19 15:40:23 -0500 (Tue, 19 Nov 2024) EndedAt: 2024-11-19 15:40:58 -0500 (Tue, 19 Nov 2024) EllapsedTime: 34.4 seconds RetCode: 0 Status: OK