Package: alabaster.se Version: 1.6.0 Command: /Library/Frameworks/R.framework/Resources/bin/R CMD INSTALL alabaster.se StartedAt: 2025-03-31 17:53:13 -0400 (Mon, 31 Mar 2025) EndedAt: 2025-03-31 17:53:41 -0400 (Mon, 31 Mar 2025) EllapsedTime: 27.9 seconds RetCode: 0 Status: OK