Package: alabaster.schemas Version: 1.6.0 Command: /Library/Frameworks/R.framework/Resources/bin/R CMD INSTALL alabaster.schemas StartedAt: 2025-01-27 15:02:48 -0500 (Mon, 27 Jan 2025) EndedAt: 2025-01-27 15:02:50 -0500 (Mon, 27 Jan 2025) EllapsedTime: 2.3 seconds RetCode: 0 Status: OK