Package: alabaster.sce Version: 1.6.0 Command: F:\biocbuild\bbs-3.20-bioc\R\bin\R.exe CMD INSTALL alabaster.sce StartedAt: 2025-01-27 16:54:13 -0500 (Mon, 27 Jan 2025) EndedAt: 2025-01-27 16:54:46 -0500 (Mon, 27 Jan 2025) EllapsedTime: 32.8 seconds RetCode: 0 Status: OK