Package: alabaster.sce Version: 1.6.0 Command: rm -rf alabaster.sce.buildbin-libdir && mkdir alabaster.sce.buildbin-libdir && F:\biocbuild\bbs-3.20-bioc\R\bin\R.exe CMD INSTALL --build --library=alabaster.sce.buildbin-libdir alabaster.sce_1.6.0.tar.gz StartedAt: 2025-01-28 07:36:21 -0500 (Tue, 28 Jan 2025) EndedAt: 2025-01-28 07:36:55 -0500 (Tue, 28 Jan 2025) EllapsedTime: 33.8 seconds RetCode: 0 Status: OK PackageFile: alabaster.sce_1.6.0.zip PackageFileSize: 296.1 KiB