Package: alabaster.sce Version: 1.6.0 Command: /Library/Frameworks/R.framework/Resources/bin/R CMD check --install=check:alabaster.sce.install-out.txt --library=/Library/Frameworks/R.framework/Resources/library --no-vignettes --timings alabaster.sce_1.6.0.tar.gz StartedAt: 2024-11-19 19:22:40 -0500 (Tue, 19 Nov 2024) EndedAt: 2024-11-19 19:29:13 -0500 (Tue, 19 Nov 2024) EllapsedTime: 393.4 seconds RetCode: 0 Status: OK CheckDir: alabaster.sce.Rcheck Warnings: 0