Package: alabaster.matrix Version: 1.6.1 Command: /home/biocbuild/R/R/bin/R CMD INSTALL alabaster.matrix StartedAt: 2025-02-10 20:19:46 -0000 (Mon, 10 Feb 2025) EndedAt: 2025-02-10 20:20:21 -0000 (Mon, 10 Feb 2025) EllapsedTime: 34.8 seconds RetCode: 0 Status: OK