Package: alabaster.matrix Version: 1.6.1 Command: /home/biocbuild/R/R/bin/R CMD check --install=check:alabaster.matrix.install-out.txt --library=/home/biocbuild/R/R/site-library --no-vignettes --timings alabaster.matrix_1.6.1.tar.gz StartedAt: 2025-02-11 03:39:12 -0000 (Tue, 11 Feb 2025) EndedAt: 2025-02-11 03:43:55 -0000 (Tue, 11 Feb 2025) EllapsedTime: 282.4 seconds RetCode: 0 Status: OK CheckDir: alabaster.matrix.Rcheck Warnings: 0