Package: alabaster.matrix Version: 1.6.1 Command: /Library/Frameworks/R.framework/Resources/bin/R CMD INSTALL alabaster.matrix StartedAt: 2025-02-10 15:18:18 -0500 (Mon, 10 Feb 2025) EndedAt: 2025-02-10 15:18:49 -0500 (Mon, 10 Feb 2025) EllapsedTime: 31.2 seconds RetCode: 0 Status: OK