Package: alabaster.matrix Version: 1.6.1 Command: /Library/Frameworks/R.framework/Resources/bin/R CMD check --install=check:alabaster.matrix.install-out.txt --library=/Library/Frameworks/R.framework/Resources/library --no-vignettes --timings alabaster.matrix_1.6.1.tar.gz StartedAt: 2025-02-11 10:53:16 -0500 (Tue, 11 Feb 2025) EndedAt: 2025-02-11 10:57:18 -0500 (Tue, 11 Feb 2025) EllapsedTime: 241.5 seconds RetCode: 0 Status: OK CheckDir: alabaster.matrix.Rcheck Warnings: 0