Package: alabaster.matrix Version: 1.6.1 Command: /Library/Frameworks/R.framework/Resources/bin/R CMD build --keep-empty-dirs --no-resave-data alabaster.matrix StartedAt: 2025-02-10 18:41:18 -0500 (Mon, 10 Feb 2025) EndedAt: 2025-02-10 18:41:59 -0500 (Mon, 10 Feb 2025) EllapsedTime: 41.3 seconds RetCode: 0 Status: OK PackageFile: alabaster.matrix_1.6.1.tar.gz PackageFileSize: 273.7 KiB