Package: alabaster.matrix Version: 1.6.1 Command: rm -rf alabaster.matrix.buildbin-libdir && mkdir alabaster.matrix.buildbin-libdir && /Users/biocbuild/BBS/utils/build-universal.sh alabaster.matrix_1.6.1.tar.gz /Library/Frameworks/R.framework/Resources/bin/R alabaster.matrix.buildbin-libdir StartedAt: 2025-02-12 14:00:10 -0500 (Wed, 12 Feb 2025) EndedAt: 2025-02-12 14:00:44 -0500 (Wed, 12 Feb 2025) EllapsedTime: 34.1 seconds RetCode: 0 Status: OK PackageFile: alabaster.matrix_1.6.1.tgz PackageFileSize: 732 KiB