Package: alabaster.bumpy Version: 1.6.0 Command: /home/biocbuild/R/R/bin/R CMD INSTALL alabaster.bumpy StartedAt: 2025-02-03 20:33:37 -0000 (Mon, 03 Feb 2025) EndedAt: 2025-02-03 20:33:51 -0000 (Mon, 03 Feb 2025) EllapsedTime: 14.3 seconds RetCode: 0 Status: OK