Package: alabaster.bumpy Version: 1.6.0 Command: /home/biocbuild/R/R/bin/R CMD build --keep-empty-dirs --no-resave-data alabaster.bumpy StartedAt: 2025-03-31 21:18:21 -0000 (Mon, 31 Mar 2025) EndedAt: 2025-03-31 21:18:42 -0000 (Mon, 31 Mar 2025) EllapsedTime: 21.0 seconds RetCode: 0 Status: OK PackageFile: alabaster.bumpy_1.6.0.tar.gz PackageFileSize: 260.5 KiB