Package: alabaster.bumpy Version: 1.6.0 Command: /home/biocbuild/bbs-3.20-bioc/R/bin/R CMD check --install=check:alabaster.bumpy.install-out.txt --library=/home/biocbuild/bbs-3.20-bioc/R/site-library --timings alabaster.bumpy_1.6.0.tar.gz StartedAt: 2025-01-27 20:44:04 -0500 (Mon, 27 Jan 2025) EndedAt: 2025-01-27 20:45:30 -0500 (Mon, 27 Jan 2025) EllapsedTime: 86.1 seconds RetCode: 0 Status: OK CheckDir: alabaster.bumpy.Rcheck Warnings: 0