Package: alabaster.base Version: 1.6.1 Command: /home/biocbuild/R/R/bin/R CMD check --install=check:alabaster.base.install-out.txt --library=/home/biocbuild/R/R/site-library --no-vignettes --timings alabaster.base_1.6.1.tar.gz StartedAt: 2025-04-01 03:46:28 -0000 (Tue, 01 Apr 2025) EndedAt: 2025-04-01 03:49:55 -0000 (Tue, 01 Apr 2025) EllapsedTime: 206.5 seconds RetCode: 0 Status: WARNINGS CheckDir: alabaster.base.Rcheck Warnings: 1