Package: alabaster.base Version: 1.6.1 Command: /home/biocbuild/R/R/bin/R CMD build --keep-empty-dirs --no-resave-data alabaster.base StartedAt: 2025-02-03 21:33:30 -0000 (Mon, 03 Feb 2025) EndedAt: 2025-02-03 21:35:39 -0000 (Mon, 03 Feb 2025) EllapsedTime: 129.1 seconds RetCode: 0 Status: OK PackageFile: alabaster.base_1.6.1.tar.gz PackageFileSize: 424 KiB