Package: alabaster.base Version: 1.6.1 Command: F:\biocbuild\bbs-3.20-bioc\R\bin\R.exe CMD check --no-multiarch --install=check:alabaster.base.install-out.txt --library=F:\biocbuild\bbs-3.20-bioc\R\library --no-vignettes --timings alabaster.base_1.6.1.tar.gz StartedAt: 2025-01-27 22:50:57 -0500 (Mon, 27 Jan 2025) EndedAt: 2025-01-27 22:54:05 -0500 (Mon, 27 Jan 2025) EllapsedTime: 188.2 seconds RetCode: 0 Status: OK CheckDir: alabaster.base.Rcheck Warnings: 0