Package: alabaster.base Version: 1.6.1 Command: chmod a+r alabaster.base -R && F:\biocbuild\bbs-3.20-bioc\R\bin\R.exe CMD build --keep-empty-dirs --no-resave-data alabaster.base StartedAt: 2025-02-03 17:26:27 -0500 (Mon, 03 Feb 2025) EndedAt: 2025-02-03 17:28:53 -0500 (Mon, 03 Feb 2025) EllapsedTime: 146.4 seconds RetCode: 0 Status: OK PackageFile: alabaster.base_1.6.1.tar.gz PackageFileSize: 399.5 KiB