Package: alabaster.base Version: 1.6.1 Command: rm -rf alabaster.base.buildbin-libdir && mkdir alabaster.base.buildbin-libdir && F:\biocbuild\bbs-3.20-bioc\R\bin\R.exe CMD INSTALL --build --library=alabaster.base.buildbin-libdir alabaster.base_1.6.1.tar.gz StartedAt: 2025-02-04 07:56:35 -0500 (Tue, 04 Feb 2025) EndedAt: 2025-02-04 07:59:16 -0500 (Tue, 04 Feb 2025) EllapsedTime: 160.8 seconds RetCode: 0 Status: OK PackageFile: alabaster.base_1.6.1.zip PackageFileSize: 2.568 MiB