Package: airpart Version: 1.14.0 Command: /home/biocbuild/R/R/bin/R CMD INSTALL airpart StartedAt: 2025-02-03 21:16:25 -0000 (Mon, 03 Feb 2025) EndedAt: 2025-02-03 21:17:06 -0000 (Mon, 03 Feb 2025) EllapsedTime: 40.9 seconds RetCode: 0 Status: OK