Package: airpart Version: 1.14.0 Command: chmod a+r airpart -R && F:\biocbuild\bbs-3.20-bioc\R\bin\R.exe CMD build --keep-empty-dirs --no-resave-data airpart StartedAt: 2025-01-30 17:13:49 -0500 (Thu, 30 Jan 2025) EndedAt: 2025-01-30 17:15:41 -0500 (Thu, 30 Jan 2025) EllapsedTime: 111.7 seconds RetCode: 0 Status: OK PackageFile: airpart_1.14.0.tar.gz PackageFileSize: 709.9 KiB