Package: airpart Version: 1.14.0 Command: /Library/Frameworks/R.framework/Resources/bin/R CMD build --keep-empty-dirs --no-resave-data airpart StartedAt: 2025-03-31 16:49:17 -0400 (Mon, 31 Mar 2025) EndedAt: 2025-03-31 16:51:52 -0400 (Mon, 31 Mar 2025) EllapsedTime: 155.3 seconds RetCode: 0 Status: OK PackageFile: airpart_1.14.0.tar.gz PackageFileSize: 1.487 MiB