Package: airpart Version: 1.14.0 Command: rm -rf airpart.buildbin-libdir && mkdir airpart.buildbin-libdir && /Users/biocbuild/BBS/utils/build-universal.sh airpart_1.14.0.tar.gz /Library/Frameworks/R.framework/Resources/bin/R airpart.buildbin-libdir StartedAt: 2025-04-01 11:23:16 -0400 (Tue, 01 Apr 2025) EndedAt: 2025-04-01 11:24:24 -0400 (Tue, 01 Apr 2025) EllapsedTime: 68.1 seconds RetCode: 0 Status: OK PackageFile: airpart_1.14.0.tgz PackageFileSize: 1.578 MiB