Package: airpart Version: 1.14.0 Command: /Library/Frameworks/R.framework/Resources/bin/R CMD INSTALL airpart StartedAt: 2024-11-08 15:46:14 -0500 (Fri, 08 Nov 2024) EndedAt: 2024-11-08 15:46:26 -0500 (Fri, 08 Nov 2024) EllapsedTime: 11.6 seconds RetCode: 0 Status: OK