Package: airpart Version: 1.14.0 Command: /Library/Frameworks/R.framework/Resources/bin/R CMD INSTALL airpart StartedAt: 2025-02-03 17:50:33 -0500 (Mon, 03 Feb 2025) EndedAt: 2025-02-03 17:51:10 -0500 (Mon, 03 Feb 2025) EllapsedTime: 36.4 seconds RetCode: 0 Status: OK