Package: agilp Version: 3.38.0 Command: /home/biocbuild/bbs-3.20-bioc/R/bin/R CMD build --keep-empty-dirs --no-resave-data --md5 agilp StartedAt: 2025-01-27 17:03:31 -0500 (Mon, 27 Jan 2025) EndedAt: 2025-01-27 17:03:37 -0500 (Mon, 27 Jan 2025) EllapsedTime: 6.0 seconds RetCode: 0 Status: OK PackageFile: agilp_3.38.0.tar.gz PackageFileSize: 455.9 KiB