Package: agilp Version: 3.38.0 Command: /Library/Frameworks/R.framework/Resources/bin/R CMD build --keep-empty-dirs --no-resave-data agilp StartedAt: 2025-02-03 18:29:02 -0500 (Mon, 03 Feb 2025) EndedAt: 2025-02-03 18:29:12 -0500 (Mon, 03 Feb 2025) EllapsedTime: 10.3 seconds RetCode: 0 Status: OK PackageFile: agilp_3.38.0.tar.gz PackageFileSize: 452.5 KiB