Package: aggregateBioVar Version: 1.16.0 Command: F:\biocbuild\bbs-3.20-bioc\R\bin\R.exe CMD INSTALL aggregateBioVar StartedAt: 2025-02-03 16:45:23 -0500 (Mon, 03 Feb 2025) EndedAt: 2025-02-03 16:45:52 -0500 (Mon, 03 Feb 2025) EllapsedTime: 29.2 seconds RetCode: 0 Status: OK