Package: aggregateBioVar Version: 1.16.0 Command: F:\biocbuild\bbs-3.20-bioc\R\bin\R.exe CMD check --no-multiarch --install=check:aggregateBioVar.install-out.txt --library=F:\biocbuild\bbs-3.20-bioc\R\library --no-vignettes --timings aggregateBioVar_1.16.0.tar.gz StartedAt: 2025-03-31 22:48:13 -0400 (Mon, 31 Mar 2025) EndedAt: 2025-03-31 22:51:33 -0400 (Mon, 31 Mar 2025) EllapsedTime: 200.5 seconds RetCode: 0 Status: OK CheckDir: aggregateBioVar.Rcheck Warnings: 0