Package: aggregateBioVar Version: 1.16.0 Command: rm -rf aggregateBioVar.buildbin-libdir && mkdir aggregateBioVar.buildbin-libdir && F:\biocbuild\bbs-3.20-bioc\R\bin\R.exe CMD INSTALL --build --library=aggregateBioVar.buildbin-libdir aggregateBioVar_1.16.0.tar.gz StartedAt: 2025-04-01 07:38:17 -0400 (Tue, 01 Apr 2025) EndedAt: 2025-04-01 07:38:55 -0400 (Tue, 01 Apr 2025) EllapsedTime: 38.2 seconds RetCode: 0 Status: OK PackageFile: aggregateBioVar_1.16.0.zip PackageFileSize: 1.461 MiB