Package: affylmGUI Version: 1.80.0 Command: /home/biocbuild/R/R/bin/R CMD INSTALL affylmGUI StartedAt: 2025-01-27 21:27:02 -0000 (Mon, 27 Jan 2025) EndedAt: 2025-01-27 21:27:28 -0000 (Mon, 27 Jan 2025) EllapsedTime: 25.5 seconds RetCode: 0 Status: OK