Package: affylmGUI Version: 1.80.0 Command: /home/biocbuild/R/R/bin/R CMD check --install=check:affylmGUI.install-out.txt --library=/home/biocbuild/R/R/site-library --no-vignettes --timings affylmGUI_1.80.0.tar.gz StartedAt: 2025-01-28 04:30:01 -0000 (Tue, 28 Jan 2025) EndedAt: 2025-01-28 04:32:00 -0000 (Tue, 28 Jan 2025) EllapsedTime: 118.3 seconds RetCode: 0 Status: WARNINGS CheckDir: affylmGUI.Rcheck Warnings: 1