Package: affylmGUI Version: 1.80.0 Command: /home/biocbuild/R/R/bin/R CMD build --keep-empty-dirs --no-resave-data affylmGUI StartedAt: 2025-01-27 22:13:59 -0000 (Mon, 27 Jan 2025) EndedAt: 2025-01-27 22:14:28 -0000 (Mon, 27 Jan 2025) EllapsedTime: 29.0 seconds RetCode: 0 Status: OK PackageFile: affylmGUI_1.80.0.tar.gz PackageFileSize: 1.753 MiB