Package: affylmGUI Version: 1.80.0 Command: F:\biocbuild\bbs-3.20-bioc\R\bin\R.exe CMD INSTALL affylmGUI StartedAt: 2025-01-27 16:27:35 -0500 (Mon, 27 Jan 2025) EndedAt: 2025-01-27 16:28:46 -0500 (Mon, 27 Jan 2025) EllapsedTime: 71.1 seconds RetCode: 0 Status: OK