Package: affylmGUI Version: 1.80.0 Command: F:\biocbuild\bbs-3.20-bioc\R\bin\R.exe CMD check --no-multiarch --install=check:affylmGUI.install-out.txt --library=F:\biocbuild\bbs-3.20-bioc\R\library --no-vignettes --timings affylmGUI_1.80.0.tar.gz StartedAt: 2025-03-31 22:47:50 -0400 (Mon, 31 Mar 2025) EndedAt: 2025-03-31 22:49:52 -0400 (Mon, 31 Mar 2025) EllapsedTime: 122.5 seconds RetCode: 0 Status: OK CheckDir: affylmGUI.Rcheck Warnings: 0