Package: affylmGUI Version: 1.80.0 Command: rm -rf affylmGUI.buildbin-libdir && mkdir affylmGUI.buildbin-libdir && F:\biocbuild\bbs-3.20-bioc\R\bin\R.exe CMD INSTALL --build --library=affylmGUI.buildbin-libdir affylmGUI_1.80.0.tar.gz StartedAt: 2025-04-01 07:38:09 -0400 (Tue, 01 Apr 2025) EndedAt: 2025-04-01 07:39:05 -0400 (Tue, 01 Apr 2025) EllapsedTime: 56.0 seconds RetCode: 0 Status: OK PackageFile: affylmGUI_1.80.0.zip PackageFileSize: 2.069 MiB