Package: affylmGUI Version: 1.80.0 Command: /home/biocbuild/bbs-3.20-bioc/R/bin/R CMD INSTALL affylmGUI StartedAt: 2025-01-27 16:17:22 -0500 (Mon, 27 Jan 2025) EndedAt: 2025-01-27 16:17:42 -0500 (Mon, 27 Jan 2025) EllapsedTime: 19.3 seconds RetCode: 0 Status: OK