Package: affylmGUI Version: 1.80.0 Command: /home/biocbuild/bbs-3.20-bioc/R/bin/R CMD check --install=check:affylmGUI.install-out.txt --library=/home/biocbuild/bbs-3.20-bioc/R/site-library --timings affylmGUI_1.80.0.tar.gz StartedAt: 2025-01-27 20:42:44 -0500 (Mon, 27 Jan 2025) EndedAt: 2025-01-27 20:44:22 -0500 (Mon, 27 Jan 2025) EllapsedTime: 97.1 seconds RetCode: 0 Status: OK CheckDir: affylmGUI.Rcheck Warnings: 0