Package: affylmGUI Version: 1.80.0 Command: /Library/Frameworks/R.framework/Resources/bin/R CMD build --keep-empty-dirs --no-resave-data affylmGUI StartedAt: 2025-01-27 18:34:33 -0500 (Mon, 27 Jan 2025) EndedAt: 2025-01-27 18:34:49 -0500 (Mon, 27 Jan 2025) EllapsedTime: 16.2 seconds RetCode: 0 Status: OK PackageFile: affylmGUI_1.80.0.tar.gz PackageFileSize: 1.759 MiB